Workbook

Sheet Shift Schedule
A1: Employee Name | B1: Role | C1: Mon | D1: Tue | E1: Wed | F1: Thu | G1: Fri | H1: Sat | I1: Sun | J1: Total Hours | K1: Overtime
A2: Employee 1 | B2: Staff | J2: =COUNTIF(C2:I2,"<>OFF")*8 | K2: =IF(J2>40,J2-40,0)
A3: Employee 2 | B3: Staff | J3: =COUNTIF(C3:I3,"<>OFF")*8 | K3: =IF(J3>40,J3-40,0)
A4: Employee 3 | B4: Staff | J4: =COUNTIF(C4:I4,"<>OFF")*8 | K4: =IF(J4>40,J4-40,0)
A5: Employee 4 | B5: Staff | J5: =COUNTIF(C5:I5,"<>OFF")*8 | K5: =IF(J5>40,J5-40,0)
A6: Employee 5 | B6: Staff | J6: =COUNTIF(C6:I6,"<>OFF")*8 | K6: =IF(J6>40,J6-40,0)
A7: Employee 6 | B7: Staff | J7: =COUNTIF(C7:I7,"<>OFF")*8 | K7: =IF(J7>40,J7-40,0)
A8: Employee 7 | B8: Staff | J8: =COUNTIF(C8:I8,"<>OFF")*8 | K8: =IF(J8>40,J8-40,0)
A9: Employee 8 | B9: Staff | J9: =COUNTIF(C9:I9,"<>OFF")*8 | K9: =IF(J9>40,J9-40,0)
A10: Employee 9 | B10: Staff | J10: =COUNTIF(C10:I10,"<>OFF")*8 | K10: =IF(J10>40,J10-40,0)
A11: Employee 10 | B11: Staff | J11: =COUNTIF(C11:I11,"<>OFF")*8 | K11: =IF(J11>40,J11-40,0)
A12: Employee 11 | B12: Staff | J12: =COUNTIF(C12:I12,"<>OFF")*8 | K12: =IF(J12>40,J12-40,0)
A13: Employee 12 | B13: Staff | J13: =COUNTIF(C13:I13,"<>OFF")*8 | K13: =IF(J13>40,J13-40,0)
... A21: Employee 20 | B21: Staff | J21: =COUNTIF(C21:I21,"<>OFF")*8 | K21: =IF(J21>40,J21-40,0)

Sheet Employee List
A1: Employee Name | B1: Role | C1: Max Weekly Hours

Sheet Dashboard
A1: Employee Name | B1: Total Hours | C1: Overtime
A2: ='Shift Schedule'!A2 | B2: ='Shift Schedule'!J2 | C2: ='Shift Schedule'!K2
A3: ='Shift Schedule'!A3 | B3: ='Shift Schedule'!J3 | C3: ='Shift Schedule'!K3
A4: ='Shift Schedule'!A4 | B4: ='Shift Schedule'!J4 | C4: ='Shift Schedule'!K4
A5: ='Shift Schedule'!A5 | B5: ='Shift Schedule'!J5 | C5: ='Shift Schedule'!K5
A6: ='Shift Schedule'!A6 | B6: ='Shift Schedule'!J6 | C6: ='Shift Schedule'!K6
A7: ='Shift Schedule'!A7 | B7: ='Shift Schedule'!J7 | C7: ='Shift Schedule'!K7
A8: ='Shift Schedule'!A8 | B8: ='Shift Schedule'!J8 | C8: ='Shift Schedule'!K8
A9: ='Shift Schedule'!A9 | B9: ='Shift Schedule'!J9 | C9: ='Shift Schedule'!K9
A10: ='Shift Schedule'!A10 | B10: ='Shift Schedule'!J10 | C10: ='Shift Schedule'!K10
A11: ='Shift Schedule'!A11 | B11: ='Shift Schedule'!J11 | C11: ='Shift Schedule'!K11
A12: ='Shift Schedule'!A12 | B12: ='Shift Schedule'!J12 | C12: ='Shift Schedule'!K12
A13: ='Shift Schedule'!A13 | B13: ='Shift Schedule'!J13 | C13: ='Shift Schedule'!K13
... A21: ='Shift Schedule'!A21 | B21: ='Shift Schedule'!J21 | C21: ='Shift Schedule'!K21
