Workbook

Sheet Executive Summary
A1: Project Name | B1: PMO Project
A2: Project Manager | B2: PMO Manager
A3: Start Date | B3: 2026-01-01
A4: End Date | B4: 2026-12-31

Sheet Tasks
A1: ID | B1: Task | C1: Owner | D1: Start | E1: End | F1: Status | G1: Priority | H1: Progress % | I1: Dependency
A2: 1 | B2: Task 1 | C2: Owner | H2: 0
A3: 2 | B3: Task 2 | C3: Owner | H3: 0
A4: 3 | B4: Task 3 | C4: Owner | H4: 0
A5: 4 | B5: Task 4 | C5: Owner | H5: 0
A6: 5 | B6: Task 5 | C6: Owner | H6: 0
A7: 6 | B7: Task 6 | C7: Owner | H7: 0
A8: 7 | B8: Task 7 | C8: Owner | H8: 0
A9: 8 | B9: Task 8 | C9: Owner | H9: 0
A10: 9 | B10: Task 9 | C10: Owner | H10: 0
A11: 10 | B11: Task 10 | C11: Owner | H11: 0

Sheet Gantt Chart
A1: Task | B1: Start | C1: End | D1: Duration
A2: =Tasks!B2 | B2: =Tasks!D2 | C2: =Tasks!E2 | D2: =IF(C2-B2,C2-B2,0)
A3: =Tasks!B3 | B3: =Tasks!D3 | C3: =Tasks!E3 | D3: =IF(C3-B3,C3-B3,0)
A4: =Tasks!B4 | B4: =Tasks!D4 | C4: =Tasks!E4 | D4: =IF(C4-B4,C4-B4,0)
A5: =Tasks!B5 | B5: =Tasks!D5 | C5: =Tasks!E5 | D5: =IF(C5-B5,C5-B5,0)
A6: =Tasks!B6 | B6: =Tasks!D6 | C6: =Tasks!E6 | D6: =IF(C6-B6,C6-B6,0)
A7: =Tasks!B7 | B7: =Tasks!D7 | C7: =Tasks!E7 | D7: =IF(C7-B7,C7-B7,0)
A8: =Tasks!B8 | B8: =Tasks!D8 | C8: =Tasks!E8 | D8: =IF(C8-B8,C8-B8,0)
A9: =Tasks!B9 | B9: =Tasks!D9 | C9: =Tasks!E9 | D9: =IF(C9-B9,C9-B9,0)
A10: =Tasks!B10 | B10: =Tasks!D10 | C10: =Tasks!E10 | D10: =IF(C10-B10,C10-B10,0)
A11: =Tasks!B11 | B11: =Tasks!D11 | C11: =Tasks!E11 | D11: =IF(C11-B11,C11-B11,0)
A12: =Tasks!B12 | B12: =Tasks!D12 | C12: =Tasks!E12 | D12: =IF(C12-B12,C12-B12,0)
A13: =Tasks!B13 | B13: =Tasks!D13 | C13: =Tasks!E13 | D13: =IF(C13-B13,C13-B13,0)
... A39: =Tasks!B39 | B39: =Tasks!D39 | C39: =Tasks!E39 | D39: =IF(C39-B39,C39-B39,0)

Sheet Risk Register
A1: Risk | B1: Impact | C1: Probability | D1: Score | E1: Mitigation
D2: =B2*C2
D3: =B3*C3
D4: =B4*C4
D5: =B5*C5
D6: =B6*C6
D7: =B7*C7
D8: =B8*C8
D9: =B9*C9
D10: =B10*C10
D11: =B11*C11
D12: =B12*C12
D13: =B13*C13
... D29: =B29*C29

Sheet Resource Plan
A1: Resource | B1: Role | C1: Allocation % | D1: Cost Rate

Sheet Budget Control
A1: Item | B1: Planned | C1: Actual | D1: Variance
D2: =C2-B2
D3: =C3-B3
D4: =C4-B4
D5: =C5-B5
D6: =C6-B6
D7: =C7-B7
D8: =C8-B8
D9: =C9-B9
D10: =C10-B10
D11: =C11-B11
D12: =C12-B12
D13: =C13-B13
... D39: =C39-B39

Sheet KPI Dashboard
A1: PMO KPI Dashboard
A3: Total Tasks | B3: =COUNTA(Tasks!A2:A200)
A4: Completed | B4: =COUNTIF(Tasks!F2:F200,"Completed")
A5: In Progress | B5: =COUNTIF(Tasks!F2:F200,"In Progress")
A6: Schedule Performance Index | B6: =IF(B3=0,0,B4/B3)
