Workbook

Sheet Daily Tracker
A1: Habit | B1: D1 | C1: D2 | D1: D3 | E1: D4 | F1: D5 | G1: D6 | H1: D7 | I1: D8 | J1: D9 | K1: D10 | L1: D11 | M1: D12 | N1: D13 | O1: D14 | P1: D15 | Q1: D16 | R1: D17 | S1: D18 | T1: D19 | U1: D20 | V1: D21 | W1: D22 | X1: D23 | Y1: D24 | Z1: D25 | AA1: D26 | AB1: D27 | AC1: D28 | AD1: D29 | AE1: D30 | AF1: D31 | AG1: Total | AH1: Completion % | AI1: Note
A2: =Habits!A2 | AG2: =COUNTIF(B2:AF2,1) | AH2: =IFERROR(AG2/Habits!B2,0) | AI2: Track consistency manually or upgrade for streak logic
A3: =Habits!A3 | AG3: =COUNTIF(B3:AF3,1) | AH3: =IFERROR(AG3/Habits!B3,0) | AI3: Track consistency manually or upgrade for streak logic
A4: =Habits!A4 | AG4: =COUNTIF(B4:AF4,1) | AH4: =IFERROR(AG4/Habits!B4,0) | AI4: Track consistency manually or upgrade for streak logic
A5: =Habits!A5 | AG5: =COUNTIF(B5:AF5,1) | AH5: =IFERROR(AG5/Habits!B5,0) | AI5: Track consistency manually or upgrade for streak logic
A6: =Habits!A6 | AG6: =COUNTIF(B6:AF6,1) | AH6: =IFERROR(AG6/Habits!B6,0) | AI6: Track consistency manually or upgrade for streak logic
A7: =Habits!A7 | AG7: =COUNTIF(B7:AF7,1) | AH7: =IFERROR(AG7/Habits!B7,0) | AI7: Track consistency manually or upgrade for streak logic
A8: =Habits!A8 | AG8: =COUNTIF(B8:AF8,1) | AH8: =IFERROR(AG8/Habits!B8,0) | AI8: Track consistency manually or upgrade for streak logic
A9: =Habits!A9 | AG9: =COUNTIF(B9:AF9,1) | AH9: =IFERROR(AG9/Habits!B9,0) | AI9: Track consistency manually or upgrade for streak logic
A10: =Habits!A10 | AG10: =COUNTIF(B10:AF10,1) | AH10: =IFERROR(AG10/Habits!B10,0) | AI10: Track consistency manually or upgrade for streak logic
A11: =Habits!A11 | AG11: =COUNTIF(B11:AF11,1) | AH11: =IFERROR(AG11/Habits!B11,0) | AI11: Track consistency manually or upgrade for streak logic

Sheet Habits
A1: Habit Name | B1: Target (Days) | C1: Category
A2: Exercise | B2: 20 | C2: Health
A3: Read | B3: 20 | C3: Health
A4: Drink Water | B4: 20 | C4: Health
A5: Meditate | B5: 20 | C5: Health
A6: No Sugar | B6: 20 | C6: Health

Sheet Dashboard
A1: Habit | B1: Completed | C1: Target | D1: Completion %
A2: =Habits!A2 | B2: ='Daily Tracker'!AG2 | C2: =Habits!B2 | D2: ='Daily Tracker'!AH2
A3: =Habits!A3 | B3: ='Daily Tracker'!AG3 | C3: =Habits!B3 | D3: ='Daily Tracker'!AH3
A4: =Habits!A4 | B4: ='Daily Tracker'!AG4 | C4: =Habits!B4 | D4: ='Daily Tracker'!AH4
A5: =Habits!A5 | B5: ='Daily Tracker'!AG5 | C5: =Habits!B5 | D5: ='Daily Tracker'!AH5
A6: =Habits!A6 | B6: ='Daily Tracker'!AG6 | C6: =Habits!B6 | D6: ='Daily Tracker'!AH6
A7: =Habits!A7 | B7: ='Daily Tracker'!AG7 | C7: =Habits!B7 | D7: ='Daily Tracker'!AH7
A8: =Habits!A8 | B8: ='Daily Tracker'!AG8 | C8: =Habits!B8 | D8: ='Daily Tracker'!AH8
A9: =Habits!A9 | B9: ='Daily Tracker'!AG9 | C9: =Habits!B9 | D9: ='Daily Tracker'!AH9
A10: =Habits!A10 | B10: ='Daily Tracker'!AG10 | C10: =Habits!B10 | D10: ='Daily Tracker'!AH10
A11: =Habits!A11 | B11: ='Daily Tracker'!AG11 | C11: =Habits!B11 | D11: ='Daily Tracker'!AH11
